Workbook

Sheet Villum Experiment
G2: Title of project:
B4: Villum Experiment 2026 | G4: Expected start date (MM-YYYY) | K4: Please note: Project duration is 2 years
B5: Please do not include any indication of applicant or affiliation.
E6: Total (all years) | J6: ="1st calendar year: " & IF($I$4="","202X", YEAR($I$4)) -> 1st calendar year: 202X | O6: ="2nd calendar year: " & IF($I$4="","202X", YEAR($I$4)+1) -> 2nd calendar year: 202X | T6: {="3th calendar year: " & _xlfn.IFS(ISBLANK($I$4), "202X",MONTH($I$4)=1,"N/A",$I$4 ="","202X", TRUE,YEAR($I$4)+2)} -> 3th calendar year: 202X
E7: From Villum Fonden | G7: Co-financing | J7: From Villum Fonden | L7: Co-financing | O7: From Villum Fonden | Q7: Co-financing | T7: From Villum Fonden | V7: Co-financing
B8: Salary - VIP A | C8: Position | E8: Months | F8: DKK | G8: Months | H8: DKK | J8: Months | K8: DKK | L8: Months | M8: DKK | O8: Months | P8: DKK | Q8: Months | R8: DKK | T8: Months | U8: DKK | V8: Months | W8: DKK
G9: =SUM(L9,Q9,V9) -> 0 | H9: =SUM(M9,R9,W9) -> 0
G10: =SUM(L10,Q10,V10) -> 0 | H10: =SUM(M10,R10,W10) -> 0
G11: =SUM(L11,Q11,V11) -> 0 | H11: =SUM(M11,R11,W11) -> 0
G12: =SUM(L12,Q12,V12) -> 0 | H12: =SUM(M12,R12,W12) -> 0
G13: =SUM(L13,Q13,V13) -> 0 | H13: =SUM(M13,R13,W13) -> 0
G14: =SUM(L14,Q14,V14) -> 0 | H14: =SUM(M14,R14,W14) -> 0
B15: Salary - VIP B | C15: Position
C16: Postdoc | E16: =SUM(J16,O16,T16) -> 0 | F16: =SUM(K16,P16,U16) -> 0 | G16: =SUM(L16,Q16,V16) -> 0 | H16: =SUM(M16,R16,W16) -> 0
E17: =SUM(J17,O17,T17) -> 0 | F17: =SUM(K17,P17,U17) -> 0 | G17: =SUM(L17,Q17,V17) -> 0 | H17: =SUM(M17,R17,W17) -> 0
E18: =SUM(J18,O18,T18) -> 0 | F18: =SUM(K18,P18,U18) -> 0 | G18: =SUM(L18,Q18,V18) -> 0 | H18: =SUM(M18,R18,W18) -> 0
E19: =SUM(J19,O19,T19) -> 0 | F19: =SUM(K19,P19,U19) -> 0 | G19: =SUM(L19,Q19,V19) -> 0 | H19: =SUM(M19,R19,W19) -> 0
E20: =SUM(J20,O20,T20) -> 0 | F20: =SUM(K20,P20,U20) -> 0 | G20: =SUM(L20,Q20,V20) -> 0 | H20: =SUM(M20,R20,W20) -> 0
E21: =SUM(J21,O21,T21) -> 0 | F21: =SUM(K21,P21,U21) -> 0 | G21: =SUM(L21,Q21,V21) -> 0 | H21: =SUM(M21,R21,W21) -> 0
E22: =SUM(J22,O22,T22) -> 0 | F22: =SUM(K22,P22,U22) -> 0 | G22: =SUM(L22,Q22,V22) -> 0 | H22: =SUM(M22,R22,W22) -> 0
E23: =SUM(J23,O23,T23) -> 0 | F23: =SUM(K23,P23,U23) -> 0 | G23: =SUM(L23,Q23,V23) -> 0 | H23: =SUM(M23,R23,W23) -> 0
E24: =SUM(J24,O24,T24) -> 0 | F24: =SUM(K24,P24,U24) -> 0 | G24: =SUM(L24,Q24,V24) -> 0 | H24: =SUM(M24,R24,W24) -> 0
E25: =SUM(J25,O25,T25) -> 0 | F25: =SUM(K25,P25,U25) -> 0 | G25: =SUM(L25,Q25,V25) -> 0 | H25: =SUM(M25,R25,W25) -> 0
B26: Salary - VIP C | C26: Position
C27: Research Assistant | E27: =SUM(J27,O27,T27) -> 0 | F27: =SUM(K27,P27,U27) -> 0 | G27: =SUM(L27,Q27,V27) -> 0 | H27: =SUM(M27,R27,W27) -> 0
E28: =SUM(J28,O28,T28) -> 0 | F28: =SUM(K28,P28,U28) -> 0 | G28: =SUM(L28,Q28,V28) -> 0 | H28: =SUM(M28,R28,W28) -> 0
E29: =SUM(J29,O29,T29) -> 0 | F29: =SUM(K29,P29,U29) -> 0 | G29: =SUM(L29,Q29,V29) -> 0 | H29: =SUM(M29,R29,W29) -> 0
E30: =SUM(J30,O30,T30) -> 0 | F30: =SUM(K30,P30,U30) -> 0 | G30: =SUM(L30,Q30,V30) -> 0 | H30: =SUM(M30,R30,W30) -> 0
E31: =SUM(J31,O31,T31) -> 0 | F31: =SUM(K31,P31,U31) -> 0 | G31: =SUM(L31,Q31,V31) -> 0 | H31: =SUM(M31,R31,W31) -> 0
E32: =SUM(J32,O32,T32) -> 0 | F32: =SUM(K32,P32,U32) -> 0 | G32: =SUM(L32,Q32,V32) -> 0 | H32: =SUM(M32,R32,W32) -> 0
B33: Salary - TAP | C33: Position
E34: =SUM(J34,O34,T34) -> 0 | F34: =SUM(K34,P34,U34) -> 0 | G34: =SUM(L34,Q34,V34) -> 0 | H34: =SUM(M34,R34,W34) -> 0
E35: =SUM(J35,O35,T35) -> 0 | F35: =SUM(K35,P35,U35) -> 0 | G35: =SUM(L35,Q35,V35) -> 0 | H35: =SUM(M35,R35,W35) -> 0
E36: =SUM(J36,O36,T36) -> 0 | F36: =SUM(K36,P36,U36) -> 0 | G36: =SUM(L36,Q36,V36) -> 0 | H36: =SUM(M36,R36,W36) -> 0
E37: =SUM(J37,O37,T37) -> 0 | F37: =SUM(K37,P37,U37) -> 0 | G37: =SUM(L37,Q37,V37) -> 0 | H37: =SUM(M37,R37,W37) -> 0
E38: =SUM(J38,O38,T38) -> 0 | F38: =SUM(K38,P38,U38) -> 0 | G38: =SUM(L38,Q38,V38) -> 0 | H38: =SUM(M38,R38,W38) -> 0
E39: =SUM(J39,O39,T39) -> 0 | F39: =SUM(K39,P39,U39) -> 0 | G39: =SUM(L39,Q39,V39) -> 0 | H39: =SUM(M39,R39,W39) -> 0
B40: Operating expenses
B41: Equipment* | F41: =SUM(K41,P41,U41) -> 0 | H41: =SUM(M41,R41,W41) -> 0
B42: Running expenses* | F42: =SUM(K42,P42,U42) -> 0 | H42: =SUM(M42,R42,W42) -> 0
B43: Travel* | F43: =SUM(K43,P43,U43) -> 0 | H43: =SUM(M43,R43,W43) -> 0
B45: Project supplement | E45: =SUM(J45,O45,T45) -> 0 | F45: =SUM(K45,P45,U45) -> 0 | J45: {=SUMIF($C:$C,"PhD student",J:J)+SUMIF($C:$C,"PhD student (4+4)",J:J)*(3/4)+SUMIF($C:$C,"PhD student (3+5)",J:J)*(3/5)+SUMIF($C:$C,"Postdoc",J:J)+SUM(SUMIF($C:$C,'VIP categories'!$C$2:$C$3,J:J))} -> 0 | K45: =J45/12*'VIP categories'!$B$11 -> 0 | O45: {=SUMIF($C:$C,"PhD student",O:O)+SUMIF($C:$C,"PhD student (4+4)",O:O)*(3/4)+SUMIF($C:$C,"PhD student (3+5)",O:O)*(3/5)+SUMIF($C:$C,"Postdoc",O:O)+SUM(SUMIF($C:$C,'VIP categories'!$C$2:$C$3,O:O))} -> 0 | P45: =O45/12*'VIP categories'!$B$11 -> 0 | T45: {=SUMIF($C:$C,"PhD student",T:T)+SUMIF($C:$C,"PhD student (4+4)",T:T)*(3/4)+SUMIF($C:$C,"PhD student (3+5)",T:T)*(3/5)+SUMIF($C:$C,"Postdoc",T:T)+SUM(SUMIF($C:$C,'VIP categories'!$C$2:$C$3,T:T))} -> 0 | U45: =T45/12*'VIP categories'!$B$11 -> 0
B47: Total | F47: =SUM(K47,P47,U47) -> 0 | H47: =SUM(M47,R47,W47) -> 0 | K47: =SUM(K16:K25,K27:K32,K34:K39,K41:K43,K45) -> 0 | M47: =SUM(M9:M14,M16:M25,M27:M32,M34:M39,M41:M43,M45) -> 0 | P47: =SUM(P16:P25,P27:P32,P34:P39,P41:P43,P45) -> 0 | R47: =SUM(R9:R14,R16:R25,R27:R32,R34:R39,R41:R43,R45) -> 0 | U47: =SUM(U16:U25,U27:U32,U34:U39,U41:U43,U45) -> 0 | W47: =SUM(W9:W14,W16:W25,W27:W32,W34:W39,W41:W43,W45) -> 0
B50: * Equipment: | J50: * Running expenses: | R50: * Travel: | Z50: Additional comments (optional):
B51: Please specify (Use <ALT>+<ENTER> for line break. Please check that all text in the box is visible before generating the PDF) | J51: Please specify | R51: Please specify | Z51: Please specify

Sheet Budget Manual
A1: Budget template – user guide You can only write in the white cells. For each person working on the project write the number of man months in a given year and the corresponding salary for those months. The budget template is created based on the agreement between Danish Universities (DU) and a number of private foundations regarding a joint model for the financing of research projects. See the detailed guidelines on the DU website: https://dkuni.dk/aftale-om-en-faelles-model-for-finansiering-af-forskningsprojekter/ The template automatically calculates project supplement based on the entered months and according to the agreement. Please note that: 1. Months are FTE (full time equivalents). Example: A part-time employee (30 hours/week) is employed for 12 calendar months in a given year. This translates into 9.73 months (FTE). 2. The project supplement is 250,000 DKK per year (FTE) for eligible job categories.

Sheet VIP categories
A1: VIP A | B1: VIP B | C1: VIP C
A2: Professor | B2: Postdoc | C2: Research Assistant
A3: Associate Professor (Lektor) | C3: C - Other
A4: Assistant Professor (Adjunkt)
A5: Senior Researcher
A6: Researcher
A7: A - Other
A11: Project supplement (Wet) | B11: 250000
