Workbook

Sheet Villum Experiment
G2: Title of project:
B4: Villum International Postdoc 2025 | G4: Expected start date (MM-YYYY) | K4: Please note: Project duration is 3 years
E6: Total (all years) | J6: ="1st calendar year: " & IF($I$4="","202X", YEAR($I$4)) -> 1st calendar year: 202X | O6: ="2nd calendar year: " & IF($I$4="","202X", YEAR($I$4)+1) -> 2nd calendar year: 202X | T6: ="3th calendar year: " & IF($I$4="","202X", YEAR($I$4)+2) -> 3th calendar year: 202X | Y6: {="4th calendar year: " & _xlfn.IFS(ISBLANK($I$4), "202X",MONTH($I$4)=1,"N/A",$I$4 ="","202X", TRUE,YEAR($I$4)+3)} -> 4th calendar year: 202X
E7: From Villum Fonden | G7: Co-financing | J7: From Villum Fonden | L7: Co-financing | O7: From Villum Fonden | Q7: Co-financing | T7: From Villum Fonden | V7: Co-financing | Y7: From Villum Fonden | AA7: Co-financing
B8: Salary - VIP A | C8: Position | E8: Months | F8: DKK | G8: Months | H8: DKK | J8: Months | K8: DKK | L8: Months | M8: DKK | O8: Months | P8: DKK | Q8: Months | R8: DKK | T8: Months | U8: DKK | V8: Months | W8: DKK | Y8: Months | Z8: DKK | AA8: Months | AB8: DKK
B9: XX | G9: =SUM(L9,Q9,V9,AA9) -> 0 | H9: =SUM(M9,R9,W9,AB9) -> 0
G10: =SUM(L10,Q10,V10,AA10) -> 0 | H10: =SUM(M10,R10,W10,AB10) -> 0
G11: =SUM(L11,Q11,V11,AA11) -> 0 | H11: =SUM(M11,R11,W11,AB11) -> 0
G12: =SUM(L12,Q12,V12,AA12) -> 0 | H12: =SUM(M12,R12,W12,AB12) -> 0
B13: Salary - VIP B | C13: Position
B14: PI | C14: Postdoc | E14: =SUM(J14,O14,T14,Y14) -> 0 | F14: =SUM(K14,P14,U14,Z14) -> 0 | G14: =SUM(L14,Q14,V14,AA14) -> 0 | H14: =SUM(M14,R14,W14,AB14) -> 0
B15: Salary - VIP C | C15: Position
E16: =SUM(J16,O16,T16,Y16) -> 0 | F16: =SUM(K16,P16,U16,Z16) -> 0 | G16: =SUM(L16,Q16,V16,AA16) -> 0 | H16: =SUM(M16,R16,W16,AB16) -> 0
E17: =SUM(J17,O17,T17,Y17) -> 0 | F17: =SUM(K17,P17,U17,Z17) -> 0 | G17: =SUM(L17,Q17,V17,AA17) -> 0 | H17: =SUM(M17,R17,W17,AB17) -> 0
E18: =SUM(J18,O18,T18,Y18) -> 0 | F18: =SUM(K18,P18,U18,Z18) -> 0 | G18: =SUM(L18,Q18,V18,AA18) -> 0 | H18: =SUM(M18,R18,W18,AB18) -> 0
B19: Salary - TAP | C19: Position
E20: =SUM(J20,O20,T20,Y20) -> 0 | F20: =SUM(K20,P20,U20,Z20) -> 0 | G20: =SUM(L20,Q20,V20,AA20) -> 0 | H20: =SUM(M20,R20,W20,AB20) -> 0
E21: =SUM(J21,O21,T21,Y21) -> 0 | F21: =SUM(K21,P21,U21,Z21) -> 0 | G21: =SUM(L21,Q21,V21,AA21) -> 0 | H21: =SUM(M21,R21,W21,AB21) -> 0
E22: =SUM(J22,O22,T22,Y22) -> 0 | F22: =SUM(K22,P22,U22,Z22) -> 0 | G22: =SUM(L22,Q22,V22,AA22) -> 0 | H22: =SUM(M22,R22,W22,AB22) -> 0
B23: Operating expenses
B24: Equipment* | F24: =SUM(K24,P24,U24,Z24) -> 0 | H24: =SUM(M24,R24,W24,AB24) -> 0
B25: Running expenses* | F25: =SUM(K25,P25,U25,Z25) -> 0 | H25: =SUM(M25,R25,W25,AB25) -> 0
B26: Travel* | F26: =SUM(K26,P26,U26,Z26) -> 0 | H26: =SUM(M26,R26,W26,AB26) -> 0
B28: Project supplement | E28: =SUM(J28,O28,T28,Y28) -> 0 | F28: =SUM(K28,P28,U28,Z28) -> 0 | J28: {=SUMIF($C:$C,"PhD student",J:J)+SUMIF($C:$C,"PhD student (4+4)",J:J)*(3/4)+SUMIF($C:$C,"PhD student (3+5)",J:J)*(3/5)+SUMIF($C:$C,"Postdoc",J:J)+SUM(SUMIF($C:$C,'VIP categories'!$C$2:$C$3,J:J))} -> 0 | K28: =J28/12*'VIP categories'!$B$11 -> 0 | O28: {=SUMIF($C:$C,"PhD student",O:O)+SUMIF($C:$C,"PhD student (4+4)",O:O)*(3/4)+SUMIF($C:$C,"PhD student (3+5)",O:O)*(3/5)+SUMIF($C:$C,"Postdoc",O:O)+SUM(SUMIF($C:$C,'VIP categories'!$C$2:$C$3,O:O))} -> 0 | P28: =O28/12*'VIP categories'!$B$11 -> 0 | T28: {=SUMIF($C:$C,"PhD student",T:T)+SUMIF($C:$C,"PhD student (4+4)",T:T)*(3/4)+SUMIF($C:$C,"PhD student (3+5)",T:T)*(3/5)+SUMIF($C:$C,"Postdoc",T:T)+SUM(SUMIF($C:$C,'VIP categories'!$C$2:$C$3,T:T))} -> 0 | U28: =T28/12*'VIP categories'!$B$11 -> 0 | Y28: {=SUMIF($C:$C,"PhD student",Y:Y)+SUMIF($C:$C,"PhD student (4+4)",Y:Y)*(3/4)+SUMIF($C:$C,"PhD student (3+5)",Y:Y)*(3/5)+SUMIF($C:$C,"Postdoc",Y:Y)+SUM(SUMIF($C:$C,'VIP categories'!$C$2:$C$3,Y:Y))} -> 0 | Z28: =Y28/12*'VIP categories'!$B$11 -> 0
B30: Total | F30: =SUM(K30,P30,U30,Z30) -> 0 | H30: =SUM(M30,R30,W30,AB30) -> 0 | K30: =SUM(K14:K14,K16:K18,K20:K22,K24:K26,K28) -> 0 | M30: =SUM(M9:M12,M14:M14,M16:M18,M20:M22,M24:M26,M28) -> 0 | P30: =SUM(P14:P14,P16:P18,P20:P22,P24:P26,P28) -> 0 | R30: =SUM(R9:R12,R14:R14,R16:R18,R20:R22,R24:R26,R28) -> 0 | U30: =SUM(U14:U14,U16:U18,U20:U22,U24:U26,U28) -> 0 | W30: =SUM(W9:W12,W14:W14,W16:W18,W20:W22,W24:W26,W28) -> 0 | Z30: =SUM(Z14:Z14,Z16:Z18,Z20:Z22,Z24:Z26,Z28) -> 0 | AB30: =SUM(AB9:AB12,AB14:AB14,AB16:AB18,AB20:AB22,AB24:AB26,AB28) -> 0
B33: * Equipment: | J33: * Running expenses: | R33: * Travel: | Z33: Additional comments (optional):
B34: Please specify (Use <ALT>+<ENTER> for line break. Please check that all text in the box is visible before generating the PDF) | J34: Please specify | R34: Please specify | Z34: Please specify

Sheet Budget Manual
A1: Budget template – user guide You can only write in the white cells. For each person working on the project write the number of man months in a given year and the corresponding salary for those months. The budget template is created based on the agreement between Danish Universities (DU) and a number of private foundations regarding a joint model for the financing of research projects. See the detailed guidelines on the DU website: https://dkuni.dk/aftale-om-en-faelles-model-for-finansiering-af-forskningsprojekter/ The template automatically calculates project supplement based on the entered months and according to the agreement. Please note that: 1. Months are FTE (full time equivalents). Example: A part-time employee (30 hours/week) is employed for 12 calendar months in a given year. This translates into 9.73 months (FTE). 2. The project supplement is 250,000 DKK per year (FTE) for eligible job categories.

Sheet VIP categories
A1: VIP A | B1: VIP B | C1: VIP C
A2: Professor | B2: Postdoc | C2: Research Assistant
A3: Associate Professor (Lektor) | C3: C - Other
A4: Assistant Professor (Adjunkt)
A5: Senior Researcher
A6: Researcher
A7: A - Other
A11: Project supplement (Wet) | B11: 250000
