Workbook

Sheet Villum Experiment Outcome
G2: Title of project:
B4: Villum Experiment Outcome Study | G4: Expected start date (MM-YYYY) | K4: Please note: Project duration is max. 4 years
B5: This template should only be used if the primary applicant is based at a Danish research institution
E6: Total (all years) | J6: ="1st calendar year: " & IF($I$4="","202X", YEAR($I$4)) -> 1st calendar year: 202X | O6: ="2nd calendar year: " & IF($I$4="","202X", YEAR($I$4)+1) -> 2nd calendar year: 202X | T6: ="3th calendar year: " & IF($I$4="","202X", YEAR($I$4)+2) -> 3th calendar year: 202X | Y6: ="4th calendar year: " & IF($I$4="","202X", YEAR($I$4)+3) -> 4th calendar year: 202X | AD6: {="5th calendar year: " & _xlfn.IFS(ISBLANK($I$4), "202X",MONTH($I$4)=1,"N/A",$I$4 ="","202X", TRUE,YEAR($I$4)+4)} -> 5th calendar year: 202X
E7: From Villum Fonden | G7: Co-financing | J7: From Villum Fonden | L7: Co-financing | O7: From Villum Fonden | Q7: Co-financing | T7: From Villum Fonden | V7: Co-financing | Y7: From Villum Fonden | AA7: Co-financing | AD7: From Villum Fonden | AF7: Co-financing
B8: Salary - VIP A | C8: Position | E8: Months | F8: DKK | G8: Months | H8: DKK | J8: Months | K8: DKK | L8: Months | M8: DKK | O8: Months | P8: DKK | Q8: Months | R8: DKK | T8: Months | U8: DKK | V8: Months | W8: DKK | Y8: Months | Z8: DKK | AA8: Months | AB8: DKK | AD8: Months | AE8: DKK | AF8: Months | AG8: DKK
B9: Insert name | G9: =SUM(L9,Q9,V9,AA9,AF9) -> 0 | H9: =SUM(M9,R9,W9,AB9,AG9) -> 0
G10: =SUM(L10,Q10,V10,AA10,AF10) -> 0 | H10: =SUM(M10,R10,W10,AB10,AG10) -> 0
G11: =SUM(L11,Q11,V11,AA11,AF11) -> 0 | H11: =SUM(M11,R11,W11,AB11,AG11) -> 0
G12: =SUM(L12,Q12,V12,AA12,AF12) -> 0 | H12: =SUM(M12,R12,W12,AB12,AG12) -> 0
G13: =SUM(L13,Q13,V13,AA13,AF13) -> 0 | H13: =SUM(M13,R13,W13,AB13,AG13) -> 0
G14: =SUM(L14,Q14,V14,AA14,AF14) -> 0 | H14: =SUM(M14,R14,W14,AB14,AG14) -> 0
B15: Salary - VIP B | C15: Position
B16: Insert description | C16: PhD student | E16: =SUM(J16,O16,T16,Y16,AD16) -> 0 | F16: =SUM(K16,P16,U16,Z16,AE16) -> 0 | G16: =SUM(L16,Q16,V16,AA16,AF16) -> 0 | H16: =SUM(M16,R16,W16,AB16,AG16) -> 0
E17: =SUM(J17,O17,T17,Y17,AD17) -> 0 | F17: =SUM(K17,P17,U17,Z17,AE17) -> 0 | G17: =SUM(L17,Q17,V17,AA17,AF17) -> 0 | H17: =SUM(M17,R17,W17,AB17,AG17) -> 0
E18: =SUM(J18,O18,T18,Y18,AD18) -> 0 | F18: =SUM(K18,P18,U18,Z18,AE18) -> 0 | G18: =SUM(L18,Q18,V18,AA18,AF18) -> 0 | H18: =SUM(M18,R18,W18,AB18,AG18) -> 0
E19: =SUM(J19,O19,T19,Y19,AD19) -> 0 | F19: =SUM(K19,P19,U19,Z19,AE19) -> 0 | G19: =SUM(L19,Q19,V19,AA19,AF19) -> 0 | H19: =SUM(M19,R19,W19,AB19,AG19) -> 0
E20: =SUM(J20,O20,T20,Y20,AD20) -> 0 | F20: =SUM(K20,P20,U20,Z20,AE20) -> 0 | G20: =SUM(L20,Q20,V20,AA20,AF20) -> 0 | H20: =SUM(M20,R20,W20,AB20,AG20) -> 0
E21: =SUM(J21,O21,T21,Y21,AD21) -> 0 | F21: =SUM(K21,P21,U21,Z21,AE21) -> 0 | G21: =SUM(L21,Q21,V21,AA21,AF21) -> 0 | H21: =SUM(M21,R21,W21,AB21,AG21) -> 0
E22: =SUM(J22,O22,T22,Y22,AD22) -> 0 | F22: =SUM(K22,P22,U22,Z22,AE22) -> 0 | G22: =SUM(L22,Q22,V22,AA22,AF22) -> 0 | H22: =SUM(M22,R22,W22,AB22,AG22) -> 0
E23: =SUM(J23,O23,T23,Y23,AD23) -> 0 | F23: =SUM(K23,P23,U23,Z23,AE23) -> 0 | G23: =SUM(L23,Q23,V23,AA23,AF23) -> 0 | H23: =SUM(M23,R23,W23,AB23,AG23) -> 0
E24: =SUM(J24,O24,T24,Y24,AD24) -> 0 | F24: =SUM(K24,P24,U24,Z24,AE24) -> 0 | G24: =SUM(L24,Q24,V24,AA24,AF24) -> 0 | H24: =SUM(M24,R24,W24,AB24,AG24) -> 0
E25: =SUM(J25,O25,T25,Y25,AD25) -> 0 | F25: =SUM(K25,P25,U25,Z25,AE25) -> 0 | G25: =SUM(L25,Q25,V25,AA25,AF25) -> 0 | H25: =SUM(M25,R25,W25,AB25,AG25) -> 0
B26: Salary - VIP C | C26: Position
E27: =SUM(J27,O27,T27,Y27,AD27) -> 0 | F27: =SUM(K27,P27,U27,Z27,AE27) -> 0 | G27: =SUM(L27,Q27,V27,AA27,AF27) -> 0 | H27: =SUM(M27,R27,W27,AB27,AG27) -> 0
E28: =SUM(J28,O28,T28,Y28,AD28) -> 0 | F28: =SUM(K28,P28,U28,Z28,AE28) -> 0 | G28: =SUM(L28,Q28,V28,AA28,AF28) -> 0 | H28: =SUM(M28,R28,W28,AB28,AG28) -> 0
E29: =SUM(J29,O29,T29,Y29,AD29) -> 0 | F29: =SUM(K29,P29,U29,Z29,AE29) -> 0 | G29: =SUM(L29,Q29,V29,AA29,AF29) -> 0 | H29: =SUM(M29,R29,W29,AB29,AG29) -> 0
E30: =SUM(J30,O30,T30,Y30,AD30) -> 0 | F30: =SUM(K30,P30,U30,Z30,AE30) -> 0 | G30: =SUM(L30,Q30,V30,AA30,AF30) -> 0 | H30: =SUM(M30,R30,W30,AB30,AG30) -> 0
E31: =SUM(J31,O31,T31,Y31,AD31) -> 0 | F31: =SUM(K31,P31,U31,Z31,AE31) -> 0 | G31: =SUM(L31,Q31,V31,AA31,AF31) -> 0 | H31: =SUM(M31,R31,W31,AB31,AG31) -> 0
E32: =SUM(J32,O32,T32,Y32,AD32) -> 0 | F32: =SUM(K32,P32,U32,Z32,AE32) -> 0 | G32: =SUM(L32,Q32,V32,AA32,AF32) -> 0 | H32: =SUM(M32,R32,W32,AB32,AG32) -> 0
B33: Salary - TAP | C33: Position
E34: =SUM(J34,O34,T34,Y34,AD34) -> 0 | F34: =SUM(K34,P34,U34,Z34,AE34) -> 0 | G34: =SUM(L34,Q34,V34,AA34,AF34) -> 0 | H34: =SUM(M34,R34,W34,AB34,AG34) -> 0
E35: =SUM(J35,O35,T35,Y35,AD35) -> 0 | F35: =SUM(K35,P35,U35,Z35,AE35) -> 0 | G35: =SUM(L35,Q35,V35,AA35,AF35) -> 0 | H35: =SUM(M35,R35,W35,AB35,AG35) -> 0
E36: =SUM(J36,O36,T36,Y36,AD36) -> 0 | F36: =SUM(K36,P36,U36,Z36,AE36) -> 0 | G36: =SUM(L36,Q36,V36,AA36,AF36) -> 0 | H36: =SUM(M36,R36,W36,AB36,AG36) -> 0
E37: =SUM(J37,O37,T37,Y37,AD37) -> 0 | F37: =SUM(K37,P37,U37,Z37,AE37) -> 0 | G37: =SUM(L37,Q37,V37,AA37,AF37) -> 0 | H37: =SUM(M37,R37,W37,AB37,AG37) -> 0
E38: =SUM(J38,O38,T38,Y38,AD38) -> 0 | F38: =SUM(K38,P38,U38,Z38,AE38) -> 0 | G38: =SUM(L38,Q38,V38,AA38,AF38) -> 0 | H38: =SUM(M38,R38,W38,AB38,AG38) -> 0
E39: =SUM(J39,O39,T39,Y39,AD39) -> 0 | F39: =SUM(K39,P39,U39,Z39,AE39) -> 0 | G39: =SUM(L39,Q39,V39,AA39,AF39) -> 0 | H39: =SUM(M39,R39,W39,AB39,AG39) -> 0
B40: Operating expenses
B41: Equipment* | F41: =SUM(K41,P41,U41,Z41,AE41) -> 0 | H41: =SUM(M41,R41,W41,AB41,AG41) -> 0
B42: Running expenses* | F42: =SUM(K42,P42,U42,Z42,AE42) -> 0 | H42: =SUM(M42,R42,W42,AB42,AG42) -> 0
B43: Travel* | F43: =SUM(K43,P43,U43,Z43,AE43) -> 0 | H43: =SUM(M43,R43,W43,AB43,AG43) -> 0
B44: PhD education rates | F44: =SUM(K44,P44,U44,Z44,AE44) -> 0 | H44: =SUM(M44,R44,W44,AB44,AG44) -> 0 | K44: =SUMIF($C:$C,"PhD student",J:J)/12*'VIP categories'!$B$10+SUMIF($C:$C,"PhD student (4+4)",J:J)*(3/4)/12*'VIP categories'!$B$10+SUMIF($C:$C,"PhD student (3+5)",J:J)*(3/5)/12*'VIP categories'!$B$10 -> 0 | M44: =SUMIF($C:$C,"PhD student",L:L)/12*'VIP categories'!$B$10+SUMIF($C:$C,"PhD student (4+4)",L:L)*(3/4)/12*'VIP categories'!$B$10+SUMIF($C:$C,"PhD student (3+5)",L:L)*(3/5)/12*'VIP categories'!$B$10 -> 0 | P44: =SUMIF($C:$C,"PhD student",O:O)/12*'VIP categories'!$B$10+SUMIF($C:$C,"PhD student (4+4)",O:O)*(3/4)/12*'VIP categories'!$B$10+SUMIF($C:$C,"PhD student (3+5)",O:O)*(3/5)/12*'VIP categories'!$B$10 -> 0 | R44: =SUMIF($C:$C,"PhD student",Q:Q)/12*'VIP categories'!$B$10+SUMIF($C:$C,"PhD student (4+4)",Q:Q)*(3/4)/12*'VIP categories'!$B$10+SUMIF($C:$C,"PhD student (3+5)",Q:Q)*(3/5)/12*'VIP categories'!$B$10 -> 0 | U44: =SUMIF($C:$C,"PhD student",T:T)/12*'VIP categories'!$B$10+SUMIF($C:$C,"PhD student (4+4)",T:T)*(3/4)/12*'VIP categories'!$B$10+SUMIF($C:$C,"PhD student (3+5)",T:T)*(3/5)/12*'VIP categories'!$B$10 -> 0 | W44: =SUMIF($C:$C,"PhD student",V:V)/12*'VIP categories'!$B$10+SUMIF($C:$C,"PhD student (4+4)",V:V)*(3/4)/12*'VIP categories'!$B$10+SUMIF($C:$C,"PhD student (3+5)",V:V)*(3/5)/12*'VIP categories'!$B$10 -> 0 | Z44: =SUMIF($C:$C,"PhD student",Y:Y)/12*'VIP categories'!$B$10+SUMIF($C:$C,"PhD student (4+4)",Y:Y)*(3/4)/12*'VIP categories'!$B$10+SUMIF($C:$C,"PhD student (3+5)",Y:Y)*(3/5)/12*'VIP categories'!$B$10 -> 0 | AB44: =SUMIF($C:$C,"PhD student",AA:AA)/12*'VIP categories'!$B$10+SUMIF($C:$C,"PhD student (4+4)",AA:AA)*(3/4)/12*'VIP categories'!$B$10+SUMIF($C:$C,"PhD student (3+5)",AA:AA)*(3/5)/12*'VIP categories'!$B$10 -> 0 | AE44: =SUMIF($C:$C,"PhD student",AI:AI)/12*'VIP categories'!$B$10+SUMIF($C:$C,"PhD student (4+4)",AI:AI)*(3/4)/12*'VIP categories'!$B$10+SUMIF($C:$C,"PhD student (3+5)",AI:AI)*(3/5)/12*'VIP categories'!$B$10 -> 0 | AG44: =SUMIF($C:$C,"PhD student",AF:AF)/12*'VIP categories'!$B$10+SUMIF($C:$C,"PhD student (4+4)",AF:AF)*(3/4)/12*'VIP categories'!$B$10+SUMIF($C:$C,"PhD student (3+5)",AF:AF)*(3/5)/12*'VIP categories'!$B$10 -> 0
B46: Project supplement | E46: =SUM(J46,O46,T46,Y46,AD46) -> 0 | F46: =SUM(K46,P46,U46,Z46,AE46) -> 0 | J46: {=SUMIF($C:$C,"PhD student",J:J)+SUMIF($C:$C,"PhD student (4+4)",J:J)*(3/4)+SUMIF($C:$C,"PhD student (3+5)",J:J)*(3/5)+SUMIF($C:$C,"Postdoc",J:J)+SUM(SUMIF($C:$C,'VIP categories'!$C$2:$C$3,J:J))} -> 0 | K46: =J46/12*'VIP categories'!$B$11 -> 0 | O46: {=SUMIF($C:$C,"PhD student",O:O)+SUMIF($C:$C,"PhD student (4+4)",O:O)*(3/4)+SUMIF($C:$C,"PhD student (3+5)",O:O)*(3/5)+SUMIF($C:$C,"Postdoc",O:O)+SUM(SUMIF($C:$C,'VIP categories'!$C$2:$C$3,O:O))} -> 0 | P46: =O46/12*'VIP categories'!$B$11 -> 0 | T46: {=SUMIF($C:$C,"PhD student",T:T)+SUMIF($C:$C,"PhD student (4+4)",T:T)*(3/4)+SUMIF($C:$C,"PhD student (3+5)",T:T)*(3/5)+SUMIF($C:$C,"Postdoc",T:T)+SUM(SUMIF($C:$C,'VIP categories'!$C$2:$C$3,T:T))} -> 0 | U46: =T46/12*'VIP categories'!$B$11 -> 0 | Y46: {=SUMIF($C:$C,"PhD student",Y:Y)+SUMIF($C:$C,"PhD student (4+4)",Y:Y)*(3/4)+SUMIF($C:$C,"PhD student (3+5)",Y:Y)*(3/5)+SUMIF($C:$C,"Postdoc",Y:Y)+SUM(SUMIF($C:$C,'VIP categories'!$C$2:$C$3,Y:Y))} -> 0 | Z46: =Y46/12*'VIP categories'!$B$11 -> 0 | AD46: {=SUMIF($C:$C,"PhD student",AD:AD)+SUMIF($C:$C,"PhD student (4+4)",AD:AD)*(3/4)+SUMIF($C:$C,"PhD student (3+5)",AD:AD)*(3/5)+SUMIF($C:$C,"Postdoc",AD:AD)+SUM(SUMIF($C:$C,'VIP categories'!$C$2:$C$3,AD:AD))} -> 0 | AE46: =AD46/12*'VIP categories'!$B$11 -> 0
B48: Total | F48: =SUM(K48,P48,U48,Z48,AE48) -> 0 | H48: =SUM(M48,R48,W48,AB48,AG48) -> 0 | K48: =SUM(K16:K25,K27:K32,K34:K39,K41:K44,K46) -> 0 | M48: =SUM(M9:M14,M16:M25,M27:M32,M34:M39,M41:M44,M46) -> 0 | P48: =SUM(P16:P25,P27:P32,P34:P39,P41:P44,P46) -> 0 | R48: =SUM(R9:R14,R16:R25,R27:R32,R34:R39,R41:R44,R46) -> 0 | U48: =SUM(U16:U25,U27:U32,U34:U39,U41:U44,U46) -> 0 | W48: =SUM(W9:W14,W16:W25,W27:W32,W34:W39,W41:W44,W46) -> 0 | Z48: =SUM(Z16:Z25,Z27:Z32,Z34:Z39,Z41:Z44,Z46) -> 0 | AB48: =SUM(AB9:AB14,AB16:AB25,AB27:AB32,AB34:AB39,AB41:AB44,AB46) -> 0 | AE48: =SUM(AE16:AE25,AE27:AE32,AE34:AE39,AE41:AE44,AE46) -> 0 | AG48: =SUM(AG9:AG14,AG16:AG25,AG27:AG32,AG34:AG39,AG41:AG44,AG46) -> 0
E49: Please note that the total PhD education rates and Project supplement for flexible PhD positions ('PhD (4+4)' and 'PhD (3+5)') equal those of a 3-year full-time PhD position.
B51: * Equipment: | J51: * Running expenses: | R51: * Travel: | Z51: Additional comments (optional):
B52: Please specify (Use <ALT>+<ENTER> for line break. Please check that all text in the box is visible before generating the PDF) | J52: Please specify | R52: Please specify | Z52: Please specify

Sheet Budget Manual
A1: Budget template – user guide You can only write in the white cells. For each person working on the project write the number of man months in a given year and the corresponding salary for those months. The budget template is created based on the agreement between Danish Universities (DU) and a number of private foundations regarding a joint model for the financing of research projects. See the detailed guidelines on the DU website: https://dkuni.dk/aftale-om-en-faelles-model-for-finansiering-af-forskningsprojekter/ The template automatically calculates project supplement and PhD education rates based on the entered months and according to the agreement. Please note that: 1. Months are FTE (full time equivalents). Example: A part-time employee (30 hours/week) is employed for 12 calendar months in a given year. This translates into 9.73 months (FTE). 2. The PhD education rate is 80,000 DKK per year for a 3-year full-time PhD student. For a PhD student on a 4+4 flexible scheme this corresponds to 60,000 DKK per year. For a PhD student on a 3+5 scheme this corresponds to 48,000 DKK per year. 3. The project supplement is 250,000 DKK per year (FTE) for eligible job categories. For a PhD student on a 4+4 scheme this corresponds to 187,500 DKK per year. For a PhD student on a 3+5 scheme this corresponds to 150,000 per year.

Sheet VIP categories
A1: VIP A | B1: VIP B | C1: VIP C
A2: Professor | B2: PhD student | C2: Research Assistant
A3: Associate Professor (Lektor) | B3: PhD student (4+4) | C3: C - Other
A4: Assistant Professor (Adjunkt) | B4: PhD student (3+5)
A5: Senior Researcher | B5: Postdoc
A6: Researcher
A7: A - Other
A10: PhD education rate (Wet) | B10: 80000
A11: Project supplement (Wet) | B11: 250000
